BEGIN:VCALENDAR
VERSION:2.0
PRODID:-//Plone.org//NONSGML plone.app.event//EN
X-WR-TIMEZONE:Europe/Madrid
BEGIN:VEVENT
SUMMARY:Handbol Infantil
DTSTART;TZID=Europe/Madrid;VALUE=DATE-TIME:20080202T100000
DTEND;TZID=Europe/Madrid;VALUE=DATE-TIME:20080202T110000
DTSTAMP;VALUE=DATE-TIME:20260419T190511Z
UID:80df0fb37dbf24d8cf03b7a3c567649b
CREATED;VALUE=DATE-TIME:20080202T000000Z
CATEGORIES:Esports
LOCATION:Pavelló municipal
ORGANIZER:CE Serena Mar
DESCRIPTION:CE Serena Mar-Club Joventut Mataró
URL:https://ajllavaneres.cat/document.php?id=1141
END:VEVENT
END:VCALENDAR