BEGIN:VCALENDAR
VERSION:2.0
PRODID:-//Plone.org//NONSGML plone.app.event//EN
X-WR-TIMEZONE:Europe/Madrid
BEGIN:VEVENT
SUMMARY:Futbol 7 Pre benjamí B
DTSTART;TZID=Europe/Madrid;VALUE=DATE-TIME:20080202T100000
DTEND;TZID=Europe/Madrid;VALUE=DATE-TIME:20080202T110000
DTSTAMP;VALUE=DATE-TIME:20260419T204247Z
UID:6ae8c7110cd53a5199509fedcfcf58b2
CREATED;VALUE=DATE-TIME:20080202T000000Z
CATEGORIES:Esports
LOCATION:Camp municipal d'Esports Camp 1
ORGANIZER:Escola de Llavaneres CF
DESCRIPTION:Escola de Llavaneres CF-Santvicentí CF
URL:https://ajllavaneres.cat/document.php?id=1142
END:VEVENT
END:VCALENDAR