BEGIN:VCALENDAR
VERSION:2.0
PRODID:-//Plone.org//NONSGML plone.app.event//EN
X-WR-TIMEZONE:Europe/Madrid
BEGIN:VEVENT
SUMMARY:Futbol 7 Pre benjamí A
DTSTART;TZID=Europe/Madrid;VALUE=DATE-TIME:20080202T100000
DTEND;TZID=Europe/Madrid;VALUE=DATE-TIME:20080202T110000
DTSTAMP;VALUE=DATE-TIME:20260419T204232Z
UID:9d6e6f11ac158462e4d7d629b1fea79c
CREATED;VALUE=DATE-TIME:20080202T000000Z
CATEGORIES:Esports
LOCATION:Camp municipal d'Esports
ORGANIZER:Escola de Llavaneres CF
DESCRIPTION:Escola de Llavaneres CF-Cirera UD
URL:https://ajllavaneres.cat/document.php?id=1143
END:VEVENT
END:VCALENDAR