BEGIN:VCALENDAR
VERSION:2.0
PRODID:-//Plone.org//NONSGML plone.app.event//EN
X-WR-TIMEZONE:Europe/Madrid
BEGIN:VEVENT
SUMMARY:LlavaEnglish day
DTSTART;TZID=Europe/Madrid;VALUE=DATE-TIME:20170301T090000
DTEND;TZID=Europe/Madrid;VALUE=DATE-TIME:20170301T100000
DTSTAMP;VALUE=DATE-TIME:20260420T073835Z
UID:00b68f031dc1df6e81fa3e18e8f3de46
CREATED;VALUE=DATE-TIME:20170301T000000Z
CATEGORIES:Infantils
LOCATION:Parc de Ca l'Alfaro - Passeig de la Mare de Déu de Montserrat, 27-33
ORGANIZER:Escola Jaume Llull i Escola Serena Vall
DESCRIPTION:Les dues escoles de primària de la vila celebren el "LlavaEnglish day"
URL:https://ajllavaneres.cat/document.php?id=11436
END:VEVENT
END:VCALENDAR