BEGIN:VCALENDAR
VERSION:2.0
PRODID:-//Plone.org//NONSGML plone.app.event//EN
X-WR-TIMEZONE:Europe/Madrid
BEGIN:VEVENT
SUMMARY:Jornada de portes obertes de l'Escola Jaume Llull
DTSTART;TZID=Europe/Madrid;VALUE=DATE-TIME:20170317T154500
DTEND;TZID=Europe/Madrid;VALUE=DATE-TIME:20170317T164500
DTSTAMP;VALUE=DATE-TIME:20260420T052432Z
UID:0fa96fa815d69f4b5a0efffb21a48776
CREATED;VALUE=DATE-TIME:20170317T000000Z
LOCATION:Escola Jaume Llull - Carrer Contrabandistes
URL:https://ajllavaneres.cat/document.php?id=11451
END:VEVENT
END:VCALENDAR