BEGIN:VCALENDAR
VERSION:2.0
PRODID:-//Plone.org//NONSGML plone.app.event//EN
X-WR-TIMEZONE:Europe/Madrid
BEGIN:VEVENT
SUMMARY:Jornada de portes obertes de l'Escola Serena Vall
DTSTART;TZID=Europe/Madrid;VALUE=DATE-TIME:20170316T170000
DTEND;TZID=Europe/Madrid;VALUE=DATE-TIME:20170316T180000
DTSTAMP;VALUE=DATE-TIME:20260419T140323Z
UID:1b82a15ad7046e56bba5ecc4f8b45710
CREATED;VALUE=DATE-TIME:20170316T000000Z
LOCATION:Altre (ho explico més avall)
URL:https://ajllavaneres.cat/document.php?id=11452
END:VEVENT
END:VCALENDAR