BEGIN:VCALENDAR
VERSION:2.0
PRODID:-//Plone.org//NONSGML plone.app.event//EN
X-WR-TIMEZONE:Europe/Madrid
BEGIN:VEVENT
SUMMARY:Jornada de portes obertes de l'Institut Llavaneres
DTSTART;TZID=Europe/Madrid;VALUE=DATE-TIME:20170311T103000
DTEND;TZID=Europe/Madrid;VALUE=DATE-TIME:20170311T113000
DTSTAMP;VALUE=DATE-TIME:20260419T162048Z
UID:e3a27d33a06d9104a93554699bc78c68
CREATED;VALUE=DATE-TIME:20170311T000000Z
LOCATION:Altre (ho explico més avall)
DESCRIPTION:Passeig del Perelló, 2
URL:https://ajllavaneres.cat/document.php?id=11453
END:VEVENT
END:VCALENDAR