BEGIN:VCALENDAR
VERSION:2.0
PRODID:-//Plone.org//NONSGML plone.app.event//EN
X-WR-TIMEZONE:Europe/Madrid
BEGIN:VEVENT
SUMMARY:Jornada de portes obertes de l'Escola Bressol Minerva
DTSTART;TZID=Europe/Madrid;VALUE=DATE-TIME:20170422T110000
DTEND;TZID=Europe/Madrid;VALUE=DATE-TIME:20170422T120000
DTSTAMP;VALUE=DATE-TIME:20260419T160221Z
UID:4b1d568e5a373ba29f17cc97714a9368
CREATED;VALUE=DATE-TIME:20170422T000000Z
LOCATION:Altre (ho explico més avall)
DESCRIPTION:Del 18 al 21 d'abril es podrà visitar l'escola en horari lectiu
URL:https://ajllavaneres.cat/document.php?id=11455
END:VEVENT
END:VCALENDAR