BEGIN:VCALENDAR
VERSION:2.0
PRODID:-//Plone.org//NONSGML plone.app.event//EN
X-WR-TIMEZONE:Europe/Madrid
BEGIN:VEVENT
SUMMARY:Presentació de la Maleta Pedagògica i contacontes
DTSTART;TZID=Europe/Madrid;VALUE=DATE-TIME:20170329T173000
DTEND;TZID=Europe/Madrid;VALUE=DATE-TIME:20170329T183000
DTSTAMP;VALUE=DATE-TIME:20260419T144851Z
UID:3d6b0623c02619041871acdcbd23a100
CREATED;VALUE=DATE-TIME:20170329T000000Z
LOCATION:Altre (ho explico més avall)
DESCRIPTION:A l'Escola Bressol Minerva
URL:https://ajllavaneres.cat/document.php?id=11456
END:VEVENT
END:VCALENDAR