BEGIN:VCALENDAR
VERSION:2.0
PRODID:-//Plone.org//NONSGML plone.app.event//EN
X-WR-TIMEZONE:Europe/Madrid
BEGIN:VEVENT
SUMMARY:Taller de Punts de Llibre per Sant Jordi 2017, a càrrec d'Imma Dorda.
DTSTART;TZID=Europe/Madrid;VALUE=DATE-TIME:20170422T120000
DTEND;TZID=Europe/Madrid;VALUE=DATE-TIME:20170422T130000
DTSTAMP;VALUE=DATE-TIME:20260419T201914Z
UID:f877f4f4996cd2ee588db6d73ecd2b99
CREATED;VALUE=DATE-TIME:20170422T000000Z
CATEGORIES:Infantils
LOCATION:Sala infantil de la Biblioteca Municipal - Closens, 65
ORGANIZER:Biblioteca, Regidoria de Cultura
COMMENT:Durada: De 12.00 a 13.30 h
DESCRIPTION:Taller on farem Punts de Llibre per celebrar la Diada de Sant Jordi 2017.
URL:https://ajllavaneres.cat/document.php?id=11465
END:VEVENT
END:VCALENDAR