BEGIN:VCALENDAR
VERSION:2.0
PRODID:-//Plone.org//NONSGML plone.app.event//EN
X-WR-TIMEZONE:Europe/Madrid
BEGIN:VEVENT
SUMMARY:Presentació de "Nunca recordaré haber muerto" pel seu autor, Julio Alberto Moreno (exjugador del FCBarcelona)
DTSTART;TZID=Europe/Madrid;VALUE=DATE-TIME:20170310T200000
DTEND;TZID=Europe/Madrid;VALUE=DATE-TIME:20170310T210000
DTSTAMP;VALUE=DATE-TIME:20260419T233309Z
UID:6abfdcc01de456c4e29338f04cb9eebb
CREATED;VALUE=DATE-TIME:20170310T000000Z
CATEGORIES:Literatura
LOCATION:Sala de plens de l'Ajuntament - Plaça de la Vila, 1
URL:https://ajllavaneres.cat/document.php?id=11466
END:VEVENT
END:VCALENDAR