BEGIN:VCALENDAR
VERSION:2.0
PRODID:-//Plone.org//NONSGML plone.app.event//EN
X-WR-TIMEZONE:Europe/Madrid
BEGIN:VEVENT
SUMMARY:Casal de la Cuina - Setmana Santa 2017
DTSTART;TZID=Europe/Madrid;VALUE=DATE-TIME:20170414T080000
DTEND;TZID=Europe/Madrid;VALUE=DATE-TIME:20170414T090000
DTSTAMP;VALUE=DATE-TIME:20260420T041650Z
UID:b136507fb22fb62feb032ff05b281947
CREATED;VALUE=DATE-TIME:20170410T000000Z
CATEGORIES:Cursos
LOCATION:Espai Labandària - Passeig de Jaume Brutau, 4
ORGANIZER:Associació de les Llums - Responsable Anna Vegas
COMMENT:Preu: 60 euros
Durada: L'activitat tindrà lloc entre el dilluns, 10 d'abril i el divendres, 14 d'abril d'enguany. L'horari que proposem és de 9 a 13h, amb l'opció del servei d'acollida de 8 a 9h i de 13 a 14h.
DESCRIPTION:Activitat de lleure per a joves d'entre 6 i 16 anys
URL:https://ajllavaneres.cat/document.php?id=11470
END:VEVENT
END:VCALENDAR