BEGIN:VCALENDAR
VERSION:2.0
PRODID:-//Plone.org//NONSGML plone.app.event//EN
X-WR-TIMEZONE:Europe/Madrid
BEGIN:VEVENT
SUMMARY:Audició de Pianos
DTSTART;TZID=Europe/Madrid;VALUE=DATE-TIME:20170303T180000
DTEND;TZID=Europe/Madrid;VALUE=DATE-TIME:20170303T190000
DTSTAMP;VALUE=DATE-TIME:20260420T010211Z
UID:f7f9466f4d45cf6a2a34d24c961f4a05
CREATED;VALUE=DATE-TIME:20170303T000000Z
CATEGORIES:Música
LOCATION:Sala polivalent de Ca l'Alfaro - Passeig de la Mare de Déu de Montserrat, 27-33
ORGANIZER:Departament de Piano de l'Escola Municipal de Música
COMMENT:Preu: Gratuït
DESCRIPTION:Divendres 3 de març a la Sala polivalent de Ca l'Alfaro
URL:https://ajllavaneres.cat/document.php?id=11471
END:VEVENT
END:VCALENDAR