BEGIN:VCALENDAR
VERSION:2.0
PRODID:-//Plone.org//NONSGML plone.app.event//EN
X-WR-TIMEZONE:Europe/Madrid
BEGIN:VEVENT
SUMMARY:Visita Oficina Mòbil d'Atenció al Consumidor
DTSTART;TZID=Europe/Madrid;VALUE=DATE-TIME:20170324T103000
DTEND;TZID=Europe/Madrid;VALUE=DATE-TIME:20170324T113000
DTSTAMP;VALUE=DATE-TIME:20260419T150909Z
UID:f2d06f7a1218240396103064f15aa848
CREATED;VALUE=DATE-TIME:20170324T000000Z
LOCATION:Passeig de la Mare de Déu de Montserrat - Passeig de la Mare de Déu de Montserrat
ORGANIZER:Diputació de Barcelona - Dept. Consum
COMMENT:Durada: Fins 13h
URL:https://ajllavaneres.cat/document.php?id=11472
END:VEVENT
END:VCALENDAR