BEGIN:VCALENDAR
VERSION:2.0
PRODID:-//Plone.org//NONSGML plone.app.event//EN
X-WR-TIMEZONE:Europe/Madrid
BEGIN:VEVENT
SUMMARY:Concert de Gòspel
DTSTART;TZID=Europe/Madrid;VALUE=DATE-TIME:20170429T210000
DTEND;TZID=Europe/Madrid;VALUE=DATE-TIME:20170429T220000
DTSTAMP;VALUE=DATE-TIME:20260420T033048Z
UID:59fe584cf9004336410451428be4c8c0
CREATED;VALUE=DATE-TIME:20170429T000000Z
CATEGORIES:Música
LOCATION:Església Parroquial de Llavaneres
ORGANIZER:Comissió de Festes
DESCRIPTION:amb Gospelsons
URL:https://ajllavaneres.cat/document.php?id=11474
END:VEVENT
END:VCALENDAR