BEGIN:VCALENDAR
VERSION:2.0
PRODID:-//Plone.org//NONSGML plone.app.event//EN
X-WR-TIMEZONE:Europe/Madrid
BEGIN:VEVENT
SUMMARY:Visita a l'orgue de la Parròquia
DTSTART;TZID=Europe/Madrid;VALUE=DATE-TIME:20170407T183000
DTEND;TZID=Europe/Madrid;VALUE=DATE-TIME:20170407T193000
DTSTAMP;VALUE=DATE-TIME:20260422T145127Z
UID:ee1fad207f3b199bc2960e998172f080
CREATED;VALUE=DATE-TIME:20170407T000000Z
CATEGORIES:Música
LOCATION:Sala de plens de l'Ajuntament - Plaça de la Vila, 1
ORGANIZER:Departament de Piano de l'Escola Municipal de Música
COMMENT:Preu: Gratuït
DESCRIPTION:Activitat per als alumnes del Departament de piano de l'Escola Municipal de Música
URL:https://ajllavaneres.cat/document.php?id=11489
END:VEVENT
END:VCALENDAR