BEGIN:VCALENDAR
VERSION:2.0
PRODID:-//Plone.org//NONSGML plone.app.event//EN
X-WR-TIMEZONE:Europe/Madrid
BEGIN:VEVENT
SUMMARY:Reunió amb associacions i entitats de Llavaneres
DTSTART;TZID=Europe/Madrid;VALUE=DATE-TIME:20170419T193000
DTEND;TZID=Europe/Madrid;VALUE=DATE-TIME:20170419T203000
DTSTAMP;VALUE=DATE-TIME:20260419T152559Z
UID:1f63c09772971f34d449df83bb00ea56
CREATED;VALUE=DATE-TIME:20170419T000000Z
LOCATION:Sala de plens de l'Ajuntament - Plaça de la Vila, 1
ORGANIZER:Regidoria de Participació Ciutadana i Transparència
URL:https://ajllavaneres.cat/document.php?id=11496
END:VEVENT
END:VCALENDAR