BEGIN:VCALENDAR
VERSION:2.0
PRODID:-//Plone.org//NONSGML plone.app.event//EN
X-WR-TIMEZONE:Europe/Madrid
BEGIN:VEVENT
SUMMARY:SORTIDA als CINGLES de BERTÍ (Moianès)
DTSTART;TZID=Europe/Madrid;VALUE=DATE-TIME:20170406T070000
DTEND;TZID=Europe/Madrid;VALUE=DATE-TIME:20170406T080000
DTSTAMP;VALUE=DATE-TIME:20260419T214239Z
UID:ef9d9054c571e207ce789f98c8941749
CREATED;VALUE=DATE-TIME:20170406T000000Z
CATEGORIES:Esports
LOCATION:Davant El CAP
ORGANIZER:Secció Sènior del Casal
URL:https://ajllavaneres.cat/document.php?id=11498
END:VEVENT
END:VCALENDAR