BEGIN:VCALENDAR
VERSION:2.0
PRODID:-//Plone.org//NONSGML plone.app.event//EN
X-WR-TIMEZONE:Europe/Madrid
BEGIN:VEVENT
SUMMARY:I Fòrum Educatiu Local
DTSTART;TZID=Europe/Madrid;VALUE=DATE-TIME:20170513T160000
DTEND;TZID=Europe/Madrid;VALUE=DATE-TIME:20170513T170000
DTSTAMP;VALUE=DATE-TIME:20260422T161143Z
UID:efbb96795175b08747ea1b847972623c
CREATED;VALUE=DATE-TIME:20170513T000000Z
LOCATION:Escola Serena Vall (accés pel passeig Til·lers)
ORGANIZER:Ajuntament de Sant Andreu de Llavaneres
COMMENT:Preu: Gratuït
Durada: Fins a les 20.30h, aproximadament.
DESCRIPTION:Participa-hi! Sant Andreu de Llavaneres, vila educadora
URL:https://ajllavaneres.cat/document.php?id=11512
END:VEVENT
END:VCALENDAR