BEGIN:VCALENDAR
VERSION:2.0
PRODID:-//Plone.org//NONSGML plone.app.event//EN
X-WR-TIMEZONE:Europe/Madrid
BEGIN:VEVENT
SUMMARY:Torneig de pàdel solidari per a la conscienciació sobre l'autisme
DTSTART;TZID=Europe/Madrid;VALUE=DATE-TIME:20170401T235500
DTEND;TZID=Europe/Madrid;VALUE=DATE-TIME:20170402T005500
DTSTAMP;VALUE=DATE-TIME:20260419T182758Z
UID:5bc13f6ded614b74819b01a05742fdf0
CREATED;VALUE=DATE-TIME:20170401T000000Z
LOCATION:Pàdel Black&Red
ORGANIZER:Pàdel Black&Red i Associació Síndrome d'Asperger de Catalunya
COMMENT:Preu: 25 euros una categoria ( masculí o femení) | 30 euros si participes a les 2 categories ( mixta i femení o masculí). Inclou sopar.
URL:https://ajllavaneres.cat/document.php?id=11513
END:VEVENT
END:VCALENDAR