BEGIN:VCALENDAR
VERSION:2.0
PRODID:-//Plone.org//NONSGML plone.app.event//EN
X-WR-TIMEZONE:Europe/Madrid
BEGIN:VEVENT
SUMMARY:Dia Internacional dels Museus
DTSTART;TZID=Europe/Madrid;VALUE=DATE-TIME:20170520T190000
DTEND;TZID=Europe/Madrid;VALUE=DATE-TIME:20170520T200000
DTSTAMP;VALUE=DATE-TIME:20260419T141940Z
UID:e477837b1fe94d4513043f719e275bea
CREATED;VALUE=DATE-TIME:20170520T000000Z
CATEGORIES:Exposició,Música
LOCATION:Museu-Arxiu de Llavaneres. Can Caralt - Carretera de Sant Vicenç, 14
ORGANIZER:Museu Arxiu de Sant Andreu de Llavaneres
COMMENT:Preu: Gratuït
Durada: Una hora i mitja aproximadament
DESCRIPTION:Música i art
URL:https://ajllavaneres.cat/document.php?id=11518
END:VEVENT
END:VCALENDAR