BEGIN:VCALENDAR
VERSION:2.0
PRODID:-//Plone.org//NONSGML plone.app.event//EN
X-WR-TIMEZONE:Europe/Madrid
BEGIN:VEVENT
SUMMARY:Compartim experiències: Projecte educatiu de Begues
DTSTART;TZID=Europe/Madrid;VALUE=DATE-TIME:20170426T190000
DTEND;TZID=Europe/Madrid;VALUE=DATE-TIME:20170426T200000
DTSTAMP;VALUE=DATE-TIME:20260419T141337Z
UID:f38453502a6fafaf832fb782388cdb56
CREATED;VALUE=DATE-TIME:20170426T000000Z
LOCATION:Sala polivalent de Ca l'Alfaro - Passeig de la Mare de Déu de Montserrat, 27-33
ORGANIZER:Regidoria d'Educació
COMMENT:Preu: Gratuït
DESCRIPTION:Visita de participants en el procés de desenvolupament del Pla Educatiu de Vila (PEV)
URL:https://ajllavaneres.cat/document.php?id=11535
END:VEVENT
END:VCALENDAR