BEGIN:VCALENDAR
VERSION:2.0
PRODID:-//Plone.org//NONSGML plone.app.event//EN
X-WR-TIMEZONE:Europe/Madrid
BEGIN:VEVENT
SUMMARY:Trobada del Grup Impulsor PEV
DTSTART;TZID=Europe/Madrid;VALUE=DATE-TIME:20170421T193000
DTEND;TZID=Europe/Madrid;VALUE=DATE-TIME:20170421T203000
DTSTAMP;VALUE=DATE-TIME:20260419T204136Z
UID:00c078def9a13a74c900b7f30938d5ba
CREATED;VALUE=DATE-TIME:20170421T000000Z
LOCATION:Sala de plens de l'Ajuntament - Plaça de la Vila, 1
ORGANIZER:Regidoria d'Educació
COMMENT:Preu: Gratuït
DESCRIPTION:4a reunió del grup que impulsa el Projecte educatiu de vila
URL:https://ajllavaneres.cat/document.php?id=11537
END:VEVENT
END:VCALENDAR