BEGIN:VCALENDAR
VERSION:2.0
PRODID:-//Plone.org//NONSGML plone.app.event//EN
X-WR-TIMEZONE:Europe/Madrid
BEGIN:VEVENT
SUMMARY:Preinscripcions a les llar d'infants municipals
DTSTART;TZID=Europe/Madrid;VALUE=DATE-TIME:20170512T090000
DTEND;TZID=Europe/Madrid;VALUE=DATE-TIME:20170512T100000
DTSTAMP;VALUE=DATE-TIME:20260419T142010Z
UID:325189d6033199300cafa00f08d57f59
CREATED;VALUE=DATE-TIME:20170502T000000Z
LOCATION:Llar d'infants municipal Minerva i Llar d'infants municipal Sant Nicolau
ORGANIZER:Regidoria d'Educació i llars d'infants municipals
COMMENT:Durada: fins al 12 de maig de 2017
DESCRIPTION:Del 2 al 12 de maig de 2017
URL:https://ajllavaneres.cat/document.php?id=11539
END:VEVENT
END:VCALENDAR