BEGIN:VCALENDAR
VERSION:2.0
PRODID:-//Plone.org//NONSGML plone.app.event//EN
X-WR-TIMEZONE:Europe/Madrid
BEGIN:VEVENT
SUMMARY:Exposició i lliurament de premis del concurs de dibuix St. Jordi a Llavaneres
DTSTART;TZID=Europe/Madrid;VALUE=DATE-TIME:20170422T110000
DTEND;TZID=Europe/Madrid;VALUE=DATE-TIME:20170422T120000
DTSTAMP;VALUE=DATE-TIME:20260420T023543Z
UID:b0c7d04566b104442bf9246aaf4fac9e
CREATED;VALUE=DATE-TIME:20170422T000000Z
CATEGORIES:Infantils
LOCATION:Sala d'actes de la Biblioteca Municipal - Closens, 65
URL:https://ajllavaneres.cat/document.php?id=11547
END:VEVENT
END:VCALENDAR