BEGIN:VCALENDAR
VERSION:2.0
PRODID:-//Plone.org//NONSGML plone.app.event//EN
X-WR-TIMEZONE:Europe/Madrid
BEGIN:VEVENT
SUMMARY:Mostra literària 2017 | Lliurament de premis
DTSTART;TZID=Europe/Madrid;VALUE=DATE-TIME:20170422T180000
DTEND;TZID=Europe/Madrid;VALUE=DATE-TIME:20170422T190000
DTSTAMP;VALUE=DATE-TIME:20260419T144936Z
UID:a72889502e64e1c7ef7cdeb577e51f31
CREATED;VALUE=DATE-TIME:20170422T000000Z
CATEGORIES:Literatura
LOCATION:Plaça de la Vila - Plaça de la Vila, 1
URL:https://ajllavaneres.cat/document.php?id=11549
END:VEVENT
END:VCALENDAR