BEGIN:VCALENDAR
VERSION:2.0
PRODID:-//Plone.org//NONSGML plone.app.event//EN
X-WR-TIMEZONE:Europe/Madrid
BEGIN:VEVENT
SUMMARY:Xerrada per a adults: Parlem d'hipoteques?
DTSTART;TZID=Europe/Madrid;VALUE=DATE-TIME:20170509T190000
DTEND;TZID=Europe/Madrid;VALUE=DATE-TIME:20170509T200000
DTSTAMP;VALUE=DATE-TIME:20260419T185843Z
UID:007ef664bc023d9fc89311f75cd98308
CREATED;VALUE=DATE-TIME:20170509T000000Z
CATEGORIES:Conferència
LOCATION:Sala d'actes de la Biblioteca Municipal - Closens, 65
ORGANIZER:Biblioteca, Regidoria de Cultura
DESCRIPTION:A càrrec de Josep M. Gimferrer, advocat especialitzat en temes d´habitatge.
URL:https://ajllavaneres.cat/document.php?id=11560
END:VEVENT
END:VCALENDAR