BEGIN:VCALENDAR
VERSION:2.0
PRODID:-//Plone.org//NONSGML plone.app.event//EN
X-WR-TIMEZONE:Europe/Madrid
BEGIN:VEVENT
SUMMARY:Exposició &OpenCurlyDoubleQuote;75 anys de tracció a vapor de RENFE&CloseCurlyDoubleQuote; amb fotografies del fons FIVV
DTSTART;TZID=Europe/Madrid;VALUE=DATE-TIME:20170531T000000
DTEND;TZID=Europe/Madrid;VALUE=DATE-TIME:20170531T010000
DTSTAMP;VALUE=DATE-TIME:20260422T161229Z
UID:16cc4be0f5e5a67bfb168ed936ea6813
CREATED;VALUE=DATE-TIME:20170505T000000Z
CATEGORIES:Exposició
LOCATION:Sales de la Biblioteca Municipal de Sant Andreu de Llavaneres
ORGANIZER:Biblioteca, Regidoria de Cultura
DESCRIPTION:Selecció de fotografies comentades de màquines locomotores, que il&bull;lustren l´evolució del parc mòbil de Renfe en relació al vapor. Aquestes fotografies provenen del Fons d´Imatges Valero Vilaginés (FIVV).
URL:https://ajllavaneres.cat/document.php?id=11561
END:VEVENT
END:VCALENDAR