BEGIN:VCALENDAR
VERSION:2.0
PRODID:-//Plone.org//NONSGML plone.app.event//EN
X-WR-TIMEZONE:Europe/Madrid
BEGIN:VEVENT
SUMMARY:Conferència inaugural de l'exposició &OpenCurlyDoubleQuote;75 anys de tracció a vapor a RENFE&CloseCurlyDoubleQuote;, a càrrec de Jordi Valero.
DTSTART;TZID=Europe/Madrid;VALUE=DATE-TIME:20170505T190000
DTEND;TZID=Europe/Madrid;VALUE=DATE-TIME:20170505T200000
DTSTAMP;VALUE=DATE-TIME:20260420T045542Z
UID:02c62bcc216e9a0b49712a8e0891d45b
CREATED;VALUE=DATE-TIME:20170505T000000Z
CATEGORIES:Conferència
LOCATION:Sala d'actes de la Biblioteca Municipal - Closens, 65
ORGANIZER:Biblioteca, Regidoria de Cultura
URL:https://ajllavaneres.cat/document.php?id=11562
END:VEVENT
END:VCALENDAR