BEGIN:VCALENDAR
VERSION:2.0
PRODID:-//Plone.org//NONSGML plone.app.event//EN
X-WR-TIMEZONE:Europe/Madrid
BEGIN:VEVENT
SUMMARY:Ressona
DTSTART;TZID=Europe/Madrid;VALUE=DATE-TIME:20170507T103000
DTEND;TZID=Europe/Madrid;VALUE=DATE-TIME:20170507T113000
DTSTAMP;VALUE=DATE-TIME:20260420T100446Z
UID:1f42e41d591bfb83955e250ad2620b44
CREATED;VALUE=DATE-TIME:20170507T000000Z
CATEGORIES:Mostra,Festa,Infantils,Música
LOCATION:Parc de Ca l'Alfaro - Passeig de la Mare de Déu de Montserrat, 27-33
ORGANIZER:EMM Llavaneres
COMMENT:Preu: gratuït
Durada: 10:30-14:00
DESCRIPTION:Fira de la música
URL:https://ajllavaneres.cat/document.php?id=11571
END:VEVENT
END:VCALENDAR