BEGIN:VCALENDAR
VERSION:2.0
PRODID:-//Plone.org//NONSGML plone.app.event//EN
X-WR-TIMEZONE:Europe/Madrid
BEGIN:VEVENT
SUMMARY:Ressona, fira de la música
DTSTART;TZID=Europe/Madrid;VALUE=DATE-TIME:20170507T100000
DTEND;TZID=Europe/Madrid;VALUE=DATE-TIME:20170507T110000
DTSTAMP;VALUE=DATE-TIME:20260419T204317Z
UID:b610e107ddb56467135e9b184710917d
CREATED;VALUE=DATE-TIME:20170507T000000Z
CATEGORIES:Música
LOCATION:Parc de Ca l'Alfaro - Passeig de la Mare de Déu de Montserrat, 27-33
ORGANIZER:Escola Municipal de Música Llavaneres
COMMENT:Preu: Gratuït. Obert a tota la ciutadania
Durada: fins a les 14 h
DESCRIPTION:Obrim l'escola al municipi amb una gran mostra d'activitats, tallers, tastet d'instruments, concerts i altres sorpreses.
URL:https://ajllavaneres.cat/document.php?id=11600
END:VEVENT
END:VCALENDAR