BEGIN:VCALENDAR
VERSION:2.0
PRODID:-//Plone.org//NONSGML plone.app.event//EN
X-WR-TIMEZONE:Europe/Madrid
BEGIN:VEVENT
SUMMARY:I Trobada pedagògica d'intercanvi de les Llars d´Infants Públiques de Sant Andreu de Llavaneres
DTSTART;TZID=Europe/Madrid;VALUE=DATE-TIME:20170520T090000
DTEND;TZID=Europe/Madrid;VALUE=DATE-TIME:20170520T100000
DTSTAMP;VALUE=DATE-TIME:20260423T164217Z
UID:7e0e171f9bff7efd76d34a97be853d7f
CREATED;VALUE=DATE-TIME:20170520T000000Z
LOCATION:Llar d'infants pública Sant Nicolau i Sala de plens de l'Ajuntament
ORGANIZER:Llars d'infants públiques i Regidoria d'Educació
COMMENT:Durada: fins a les 13 h
DESCRIPTION:Els mestres de la Llar d'Infants pública Minerva i la Llar d'Infants pública Sant Nicolau es troben per compartir experiències
URL:https://ajllavaneres.cat/document.php?id=11603
END:VEVENT
END:VCALENDAR