BEGIN:VCALENDAR
VERSION:2.0
PRODID:-//Plone.org//NONSGML plone.app.event//EN
X-WR-TIMEZONE:Europe/Madrid
BEGIN:VEVENT
SUMMARY:TRADICIONAL ARROSSADA POPULAR
DTSTART;TZID=Europe/Madrid;VALUE=DATE-TIME:20170604T140000
DTEND;TZID=Europe/Madrid;VALUE=DATE-TIME:20170604T150000
DTSTAMP;VALUE=DATE-TIME:20260423T145629Z
UID:7976ec65ada4a0c9163509103e1e357e
CREATED;VALUE=DATE-TIME:20170604T000000Z
CATEGORIES:Festa
LOCATION:El Casal de Llavaneres ( Sala Polivalent )
ORGANIZER:Secció de Festes del Casal de Llavaneres
URL:https://ajllavaneres.cat/document.php?id=11606
END:VEVENT
END:VCALENDAR