BEGIN:VCALENDAR
VERSION:2.0
PRODID:-//Plone.org//NONSGML plone.app.event//EN
X-WR-TIMEZONE:Europe/Madrid
BEGIN:VEVENT
SUMMARY:PASSEIG per les CALES de BEGUR
DTSTART;TZID=Europe/Madrid;VALUE=DATE-TIME:20170525T070000
DTEND;TZID=Europe/Madrid;VALUE=DATE-TIME:20170525T080000
DTSTAMP;VALUE=DATE-TIME:20260420T071128Z
UID:8385afe69038561cdd4946e1f8775783
CREATED;VALUE=DATE-TIME:20170525T000000Z
CATEGORIES:Esports
LOCATION:Davant El CAP
ORGANIZER:Secció Sènior del Casal de Llavaneres
URL:https://ajllavaneres.cat/document.php?id=11608
END:VEVENT
END:VCALENDAR