BEGIN:VCALENDAR
VERSION:2.0
PRODID:-//Plone.org//NONSGML plone.app.event//EN
X-WR-TIMEZONE:Europe/Madrid
BEGIN:VEVENT
SUMMARY:SORTIDA de GEGANTS a CERVELLÓ (Baix Llobregat)
DTSTART;TZID=Europe/Madrid;VALUE=DATE-TIME:20170520T160000
DTEND;TZID=Europe/Madrid;VALUE=DATE-TIME:20170520T170000
DTSTAMP;VALUE=DATE-TIME:20260419T190708Z
UID:d9757df1fb5a6aa096f876ab61519328
CREATED;VALUE=DATE-TIME:20170520T000000Z
CATEGORIES:Festa,Infantils
LOCATION:Sortida davant El Casal
ORGANIZER:Secció de Tradicions i Festes Catalanes del Casal.
URL:https://ajllavaneres.cat/document.php?id=11609
END:VEVENT
END:VCALENDAR