BEGIN:VCALENDAR
VERSION:2.0
PRODID:-//Plone.org//NONSGML plone.app.event//EN
X-WR-TIMEZONE:Europe/Madrid
BEGIN:VEVENT
SUMMARY:Visita de l'Oficina Mòbil d'Atenció al Consumidor
DTSTART;TZID=Europe/Madrid;VALUE=DATE-TIME:20170519T103000
DTEND;TZID=Europe/Madrid;VALUE=DATE-TIME:20170519T113000
DTSTAMP;VALUE=DATE-TIME:20260422T161117Z
UID:418b33d5182ce38072c7d18dd87adee2
CREATED;VALUE=DATE-TIME:20170519T000000Z
LOCATION:Passeig de la Mare de Déu de Montserrat - Passeig de la Mare de Déu de Montserrat
ORGANIZER:Diputació de Barcelona - dept. de Consum
COMMENT:Durada: fins les 13h
URL:https://ajllavaneres.cat/document.php?id=11610
END:VEVENT
END:VCALENDAR