BEGIN:VCALENDAR
VERSION:2.0
PRODID:-//Plone.org//NONSGML plone.app.event//EN
X-WR-TIMEZONE:Europe/Madrid
BEGIN:VEVENT
SUMMARY:Duatló de Muntanya
DTSTART;TZID=Europe/Madrid;VALUE=DATE-TIME:20171029T090000
DTEND;TZID=Europe/Madrid;VALUE=DATE-TIME:20171029T100000
DTSTAMP;VALUE=DATE-TIME:20260419T141813Z
UID:d4efe1dd37eb93470472199d01fe15a7
CREATED;VALUE=DATE-TIME:20171029T000000Z
CATEGORIES:Esports
LOCATION:Sortida i arribada Passeig Jaume Brutau
ORGANIZER:Besttrail
DESCRIPTION:Inndòmit Llavaneres
URL:https://ajllavaneres.cat/document.php?id=11641
END:VEVENT
END:VCALENDAR