BEGIN:VCALENDAR
VERSION:2.0
PRODID:-//Plone.org//NONSGML plone.app.event//EN
X-WR-TIMEZONE:Europe/Madrid
BEGIN:VEVENT
SUMMARY:SORTIDA de GEGANTS a PREMIÀ de MAR (Maresme)
DTSTART;TZID=Europe/Madrid;VALUE=DATE-TIME:20170603T163000
DTEND;TZID=Europe/Madrid;VALUE=DATE-TIME:20170603T173000
DTSTAMP;VALUE=DATE-TIME:20260422T133350Z
UID:49c932484f6a8aee7381b649ec029e17
CREATED;VALUE=DATE-TIME:20170603T000000Z
CATEGORIES:Festa,Infantils
LOCATION:Sortida davant El Casal
ORGANIZER:Secció de Tradicions i Festes Catalanes del Casal.
URL:https://ajllavaneres.cat/document.php?id=11644
END:VEVENT
END:VCALENDAR