BEGIN:VCALENDAR
VERSION:2.0
PRODID:-//Plone.org//NONSGML plone.app.event//EN
X-WR-TIMEZONE:Europe/Madrid
BEGIN:VEVENT
SUMMARY:Ascensió al pic de Sobrespuny
DTSTART;TZID=Europe/Madrid;VALUE=DATE-TIME:20170615T064500
DTEND;TZID=Europe/Madrid;VALUE=DATE-TIME:20170615T074500
DTSTAMP;VALUE=DATE-TIME:20260420T114343Z
UID:8d24997468d19dc6f9d3615201980011
CREATED;VALUE=DATE-TIME:20170615T000000Z
CATEGORIES:Esports
LOCATION:Davant El CAP
ORGANIZER:Secció Sènior del Casal
URL:https://ajllavaneres.cat/document.php?id=11653
END:VEVENT
END:VCALENDAR