BEGIN:VCALENDAR
VERSION:2.0
PRODID:-//Plone.org//NONSGML plone.app.event//EN
X-WR-TIMEZONE:Europe/Madrid
BEGIN:VEVENT
SUMMARY:Concert de clausura del curs 2016-2017 de l'Escola de Música
DTSTART;TZID=Europe/Madrid;VALUE=DATE-TIME:20170620T183000
DTEND;TZID=Europe/Madrid;VALUE=DATE-TIME:20170620T193000
DTSTAMP;VALUE=DATE-TIME:20260420T053245Z
UID:edcbe65a282178c0f5656d84ea2faf3b
CREATED;VALUE=DATE-TIME:20170620T000000Z
LOCATION:Jardins de Can Caralt - Can Caralt
ORGANIZER:Escola Municipal de Música Llavaneres
COMMENT:Preu: Gratuït
DESCRIPTION:A càrrec dels Combos i els Conjunts de guitarra de l'escola
URL:https://ajllavaneres.cat/document.php?id=11689
END:VEVENT
END:VCALENDAR