BEGIN:VCALENDAR
VERSION:2.0
PRODID:-//Plone.org//NONSGML plone.app.event//EN
X-WR-TIMEZONE:Europe/Madrid
BEGIN:VEVENT
SUMMARY:Visita Oficina Mòbil d'Atenció al Consumidor
DTSTART;TZID=Europe/Madrid;VALUE=DATE-TIME:20170623T103000
DTEND;TZID=Europe/Madrid;VALUE=DATE-TIME:20170623T113000
DTSTAMP;VALUE=DATE-TIME:20260419T165632Z
UID:e2bcd55c6f3ca10db021b8bc9785b30b
CREATED;VALUE=DATE-TIME:20170623T000000Z
LOCATION:Passeig de la Mare de Déu de Montserrat - Passeig de la Mare de Déu de Montserrat
ORGANIZER:Dept. de Consum de la Diputació de Barcelona
COMMENT:Durada: de 10,30 a 13h
URL:https://ajllavaneres.cat/document.php?id=11717
END:VEVENT
END:VCALENDAR