BEGIN:VCALENDAR
VERSION:2.0
PRODID:-//Plone.org//NONSGML plone.app.event//EN
X-WR-TIMEZONE:Europe/Madrid
BEGIN:VEVENT
SUMMARY:Visita de la Unitat Mòbil d'Atenció al Consumidor
DTSTART;TZID=Europe/Madrid;VALUE=DATE-TIME:20170721T103000
DTEND;TZID=Europe/Madrid;VALUE=DATE-TIME:20170721T113000
DTSTAMP;VALUE=DATE-TIME:20260419T190557Z
UID:7bf5035ae702825fb49da6bc37e5f480
CREATED;VALUE=DATE-TIME:20170721T000000Z
LOCATION:Passeig de la Mare de Déu de Montserrat
ORGANIZER:Dept. de Consum de la Diputació de Barcelona
COMMENT:Durada: fins les 13h
URL:https://ajllavaneres.cat/document.php?id=11743
END:VEVENT
END:VCALENDAR