BEGIN:VCALENDAR
VERSION:2.0
PRODID:-//Plone.org//NONSGML plone.app.event//EN
X-WR-TIMEZONE:Europe/Madrid
BEGIN:VEVENT
SUMMARY:Xeringada infantil
DTSTART;TZID=Europe/Madrid;VALUE=DATE-TIME:20170715T120000
DTEND;TZID=Europe/Madrid;VALUE=DATE-TIME:20170715T130000
DTSTAMP;VALUE=DATE-TIME:20260419T161947Z
UID:d2bfc48f4b42713e74efb9da9b7f9c31
CREATED;VALUE=DATE-TIME:20170715T000000Z
CATEGORIES:Festa,Infantils
LOCATION:Espai Labandària - Passeig de Jaume Brutau, 4
ORGANIZER:Secció de Festes i Tradicions Catalanes d'El Casal de Llavaneres
COMMENT:Preu: Entrada Lliure
URL:https://ajllavaneres.cat/document.php?id=11763
END:VEVENT
END:VCALENDAR