BEGIN:VCALENDAR
VERSION:2.0
PRODID:-//Plone.org//NONSGML plone.app.event//EN
X-WR-TIMEZONE:Europe/Madrid
BEGIN:VEVENT
SUMMARY:Diada Nacional de Catalunya
DTSTART;TZID=Europe/Madrid;VALUE=DATE-TIME:20170911T113000
DTEND;TZID=Europe/Madrid;VALUE=DATE-TIME:20170911T123000
DTSTAMP;VALUE=DATE-TIME:20260419T214208Z
UID:5a1c4817f8b466b614abd429ba50e136
CREATED;VALUE=DATE-TIME:20170911T000000Z
LOCATION:Passeig de la Mare de Déu de Montserrat
ORGANIZER:Regidoria de Cultura
URL:https://ajllavaneres.cat/document.php?id=11839
END:VEVENT
END:VCALENDAR