BEGIN:VCALENDAR
VERSION:2.0
PRODID:-//Plone.org//NONSGML plone.app.event//EN
X-WR-TIMEZONE:Europe/Madrid
BEGIN:VEVENT
SUMMARY:SORTIDA de GEGANTS a SANTA COLOMA de FARNERS (La Selva)
DTSTART;TZID=Europe/Madrid;VALUE=DATE-TIME:20170923T160000
DTEND;TZID=Europe/Madrid;VALUE=DATE-TIME:20170923T170000
DTSTAMP;VALUE=DATE-TIME:20260420T004220Z
UID:c41ff44f576ec090b79565f3bd18aabc
CREATED;VALUE=DATE-TIME:20170923T000000Z
CATEGORIES:Festa,Infantils
LOCATION:Sortida davant El Casal
ORGANIZER:Secció de Tradicions i Festes Catalanes del Casal.
URL:https://ajllavaneres.cat/document.php?id=11862
END:VEVENT
END:VCALENDAR