BEGIN:VCALENDAR
VERSION:2.0
PRODID:-//Plone.org//NONSGML plone.app.event//EN
X-WR-TIMEZONE:Europe/Madrid
BEGIN:VEVENT
SUMMARY:Alcoy, passaports a l'art (1947-1987)
DTSTART;TZID=Europe/Madrid;VALUE=DATE-TIME:20171006T193000
DTEND;TZID=Europe/Madrid;VALUE=DATE-TIME:20171006T203000
DTSTAMP;VALUE=DATE-TIME:20260419T165445Z
UID:18dcbd70d4c8fed90bfb196334a07660
CREATED;VALUE=DATE-TIME:20171006T000000Z
CATEGORIES:Exposició
LOCATION:Museu-Arxiu de Llavaneres. Can Caralt - Carretera de Sant Vicenç, 14
ORGANIZER:Museu Arxiu de Sant Andreu de Llavaneres
COMMENT:Preu: gratuït
Durada: fins al 26 de novembre
URL:https://ajllavaneres.cat/document.php?id=11874
END:VEVENT
END:VCALENDAR