BEGIN:VCALENDAR
VERSION:2.0
PRODID:-//Plone.org//NONSGML plone.app.event//EN
X-WR-TIMEZONE:Europe/Madrid
BEGIN:VEVENT
SUMMARY:ÉS COSA DE NENS!
DTSTART;TZID=Europe/Madrid;VALUE=DATE-TIME:20171125T110000
DTEND;TZID=Europe/Madrid;VALUE=DATE-TIME:20171125T120000
DTSTAMP;VALUE=DATE-TIME:20260421T101824Z
UID:f3d347a37926de1d71d415312bca6602
CREATED;VALUE=DATE-TIME:20171125T000000Z
CATEGORIES:Infantils,Teatre
LOCATION:Gimnàs escola Serena Vall
ORGANIZER:Regidoria d'Educació
COMMENT:Preu: gratuït
Durada: 2 hores
DESCRIPTION:Activitats per al suport educatiu de pares i mares amb la col.laboració de Diputació de Barcelona
URL:https://ajllavaneres.cat/document.php?id=11900
END:VEVENT
END:VCALENDAR