BEGIN:VCALENDAR
VERSION:2.0
PRODID:-//Plone.org//NONSGML plone.app.event//EN
X-WR-TIMEZONE:Europe/Madrid
BEGIN:VEVENT
SUMMARY:Visita del Síndic de Greuges
DTSTART;TZID=Europe/Madrid;VALUE=DATE-TIME:20171019T100000
DTEND;TZID=Europe/Madrid;VALUE=DATE-TIME:20171019T110000
DTSTAMP;VALUE=DATE-TIME:20260419T194343Z
UID:043e8360786e0dce90578d33b8016fb8
CREATED;VALUE=DATE-TIME:20171019T000000Z
LOCATION:Sala d'actes de la Biblioteca Municipal - Closens, 65
ORGANIZER:Síndic de Greuges
COMMENT:Durada: Tot el matí
URL:https://ajllavaneres.cat/document.php?id=11902
END:VEVENT
END:VCALENDAR