BEGIN:VCALENDAR
VERSION:2.0
PRODID:-//Plone.org//NONSGML plone.app.event//EN
X-WR-TIMEZONE:Europe/Madrid
BEGIN:VEVENT
SUMMARY:Mercat de la Tardor
DTSTART;TZID=Europe/Madrid;VALUE=DATE-TIME:20171028T090000
DTEND;TZID=Europe/Madrid;VALUE=DATE-TIME:20171028T100000
DTSTAMP;VALUE=DATE-TIME:20260419T221833Z
UID:1c979c756d75dd6030d51f7ebf388933
CREATED;VALUE=DATE-TIME:20171028T000000Z
LOCATION:Passeig de la Mare de Déu de Montserrat - Passeig de la Mare de Déu de Montserrat
ORGANIZER:Associació de les Llums
COMMENT:Preu: gratuït
Durada: de 9h del matí a 20h del vespre
DESCRIPTION:Venda d'objectes de segona mà i d'ocasió
URL:https://ajllavaneres.cat/document.php?id=11917
END:VEVENT
END:VCALENDAR