BEGIN:VCALENDAR
VERSION:2.0
PRODID:-//Plone.org//NONSGML plone.app.event//EN
X-WR-TIMEZONE:Europe/Madrid
BEGIN:VEVENT
SUMMARY:Sortida al Teatre
DTSTART;TZID=Europe/Madrid;VALUE=DATE-TIME:20171124T210000
DTEND;TZID=Europe/Madrid;VALUE=DATE-TIME:20171124T220000
DTSTAMP;VALUE=DATE-TIME:20260419T190624Z
UID:0701f9b389c5b3e24b3230fb0c3cc444
CREATED;VALUE=DATE-TIME:20171124T000000Z
CATEGORIES:Teatre
LOCATION:Teatre Apolo de Barcelona
ORGANIZER:Regidoria de Cultura
COMMENT:Preu: 35&euro; (entrada + servei de bus)
DESCRIPTION:Y no quedará ninguno
URL:https://ajllavaneres.cat/document.php?id=11956
END:VEVENT
END:VCALENDAR